BEGIN:VCALENDAR
VERSION:2.0
PRODID:-//Tukios.com/
BEGIN:VEVENT
UID:d773a06c-7ab9-409b-b493-c37e0d7fdf04@www.spilsburymortuary.com
DTSTAMP:20260423T004849Z
DTSTART:20260427T183000Z
DTEND:20260427T193000Z
SUMMARY:Burial
DESCRIPTION:
URL:https://www.spilsburymortuary.com/obituaries/judy-fillmore
LOCATION:Tonaquint Cemetery 1777 South Dixie Drive  St. George UT 
GEO:37.0795725;-113.6001166
END:VEVENT
END:VCALENDAR