BEGIN:VCALENDAR
VERSION:2.0
PRODID:-//Tukios.com/
BEGIN:VEVENT
UID:18b91a1c-83e4-43d4-a07b-35ead5ede1d0@www.spilsburymortuary.com
DTSTAMP:20260423T004802Z
DTSTART:20260427T170000Z
DTEND:20260427T180000Z
SUMMARY:Funeral Service
DESCRIPTION:
URL:https://www.spilsburymortuary.com/obituaries/judy-fillmore
LOCATION:Spilsbury Mortuary 110 South Bluff Street  St. George UT 84770
GEO:37.1056308;-113.5937756
END:VEVENT
END:VCALENDAR