BEGIN:VCALENDAR
VERSION:2.0
PRODID:-//Tukios.com/
BEGIN:VEVENT
UID:a6aaa3f6-9e02-4b3a-9f81-773b8f4be719@www.spilsburymortuary.com
DTSTAMP:20260423T004017Z
DTSTART:20260427T150000Z
DTEND:20260427T163000Z
SUMMARY:Public Viewing
DESCRIPTION:
URL:https://www.spilsburymortuary.com/obituaries/judy-fillmore
LOCATION:Spilsbury Mortuary 110 South Bluff Street  St. George UT 84770
GEO:37.1055504;-113.5937748
END:VEVENT
END:VCALENDAR